BEGIN:VCALENDAR
VERSION:2.0
PRODID:-//Volt Europa//Events//EN
CALSCALE:GREGORIAN
METHOD:PUBLISH
BEGIN:VEVENT
UID:assemblee-generale-de-volt-europa-1763798400@voltfrance.org
DTSTAMP:20260423T113112Z
DTSTART;TZID=Europe/Paris:20251122T090000
DTEND;TZID=Europe/Paris:20251123T180000
SUMMARY:Assemblée générale de Volt Europa
DESCRIPTION:Le monde évolue rapidement\, et l'Europe doit se montrer à la
  hauteur de cette situation avec courage et lucidité. Volt nourrit la visi
 on d'une  Europe forte\, innovante et souveraine \, unie par un objectif co
 mmun et non divisée par des frontières. Cette vision prend vie lors de no
 s  assemblées générales \, où  les membres de tout le continent se réu
 nissent pour renouer les liens\, apprendre et célébrer  le travail commun
  réalisé tout au long de l'année. De  l'élaboration de politiques sur l
 'IA\, la 
LOCATION:Centre de Congrès Kap Europa\, Francfort Messe
URL:https://voltfrance.org/strasbourg/evenements/assemblee-generale-de-volt
 -europa
END:VEVENT
END:VCALENDAR
