BEGIN:VCALENDAR
VERSION:2.0
PRODID:-//Volt Europa//Events//EN
CALSCALE:GREGORIAN
METHOD:PUBLISH
BEGIN:VEVENT
UID:volt-sera-present-a-la-convention-1763294400@voltfrance.org
DTSTAMP:20260423T112835Z
DTSTART;TZID=Europe/Paris:20251116T130000
DTEND;TZID=Europe/Paris:20251116T190000
SUMMARY:Table ronde avec Cécile Richard\, Raphaël Glucksmann et François
  Hollande
DESCRIPTION:Le mouvement la  Convention  organise un événement de rassemb
 lement de forces politiques auquel participeront un certain nombre de perso
 nnalités issues de la société civile\, membres ou non d’un parti polit
 ique\, de clubs de réflexion ou d’associations\, telles que le prix Nobe
 l d'économie  Philippe AGHION \,  Carole DELGA\,  ou le parti  En Commun !
  Volt \, en tant que parti politique paneuropéen a été invité\, en la p
 ersonne de  Cécile RICHARD\,  ex co-présidente de Volt France\, à partic
 iper à la tabl
LOCATION:Salle Maradas\, Impasse du Lycée\, 95300 Pontoise
URL:https://voltfrance.org/evenements/volt-sera-present-a-la-convention
END:VEVENT
END:VCALENDAR
