BEGIN:VCALENDAR
VERSION:2.0
PRODID:-//Volt Europa//Events//EN
CALSCALE:GREGORIAN
METHOD:PUBLISH
BEGIN:VEVENT
UID:volt-sera-aussi-a-la-grande-braderie-de-lille-1757138400@voltfrance.org
DTSTAMP:20260423T074219Z
DTSTART;TZID=Europe/Paris:20250906T080000
DTEND;TZID=Europe/Paris:20250907T180000
SUMMARY:Volt sera aussi à la Grande Braderie de Lille !
DESCRIPTION:Des moules\, des frites\, des fripes qui moulent !  ... mais pa
 s que !  34 heures de fêtes\, d'animations et de partage\, pendant lesquel
 les vous pourrez retrouver les membres de Volt Lille et leur stand violet\,
  une bonne occasion de faire connaissance\, et de répondre à vos question
 s sur l'actualité\, Volt cultive le pragmatisme !
LOCATION:59000 Lille
URL:https://voltfrance.org/evenements/volt-sera-aussi-a-la-grande-braderie-
 de-lille
END:VEVENT
END:VCALENDAR
