BEGIN:VCALENDAR
VERSION:2.0
PRODID:-//Volt Europa//Events//EN
CALSCALE:GREGORIAN
METHOD:PUBLISH
BEGIN:VEVENT
UID:volt-propose-rencontre-sur-la-proportionnelle-avec-clement-tonon-174791
 8800@voltfrance.org
DTSTAMP:20260423T155212Z
DTSTART;TZID=Europe/Paris:20250522T150000
DTEND;TZID=Europe/Paris:20250522T160000
SUMMARY:Volt propose : Rencontre sur la proportionnelle avec ClÃ©ment Tonon
DESCRIPTION:A l'initiative de Volt France\,  Sacha Courtial \, secrÃ©taire 
 gÃ©nÃ©ral de Volt France et   Godfried Akuesson \, rÃ©fÃ©rent du pÃ´le poli
 tique\, iront prÃ©senter nos propositions sur la proportionnelle Ã   ClÃ©me
 nt Tonon\,  rapporteur gÃ©nÃ©ral auprÃ¨s du Haut-Commissaire au plan .  ClÃ
 ©ment Tonon est un jeune espoir de la politique\, haut fonctionnaire\, Ã©lu
  d'une commune de Dordogne\, et un proche d'Edouard Philippe.  Nul doute qu
 e la rencontre sera constructive. Image: Par Chatsam Travail personnel\, CC
  BY-SA 3.0
LOCATION:Haut commissariat au plan -  Paris
URL:https://voltfrance.org/evenements/volt-propose-rencontre-sur-la-proport
 ionnelle-avec-clement-tonon
END:VEVENT
END:VCALENDAR
