BEGIN:VCALENDAR
VERSION:2.0
PRODID:-//Volt Europa//Events//EN
CALSCALE:GREGORIAN
METHOD:PUBLISH
BEGIN:VEVENT
UID:volt-nantes-apero-debat-mercosur-1742407200@voltfrance.org
DTSTAMP:20260423T083300Z
DTSTART;TZID=Europe/Paris:20250319T190000
DTEND;TZID=Europe/Paris:20250319T220000
SUMMARY:Volt Nantes apÃ©ro dÃ©bat : Mercosur
DESCRIPTION:Une nouvelle version du volet commercial de  l'accord vient d'Ã
 ªtre finalisÃ©e comme suite Ã  la visite de Madame Von der Leyen en Uruguay
  Ã  la fin de l'annÃ©e 2024. L'accord est cependant encore loin d'Ãªtre sig
 nÃ© et ratifiÃ©. Si vous voulez en savoir plus\, venez en discuter autour d
 'un verre avec les militants de Volt Nantes.
LOCATION:Le Flesselles\, 3 All. Flesselles\, 44000 Nantes.
URL:https://voltfrance.org/evenements/volt-nantes-apero-debat-mercosur
END:VEVENT
END:VCALENDAR
