BEGIN:VCALENDAR
VERSION:2.0
PRODID:-//Volt Europa//Events//EN
CALSCALE:GREGORIAN
METHOD:PUBLISH
BEGIN:VEVENT
UID:volt-marche-schengen-2024-1715238000@voltfrance.org
DTSTAMP:20260423T074608Z
DTSTART;TZID=Europe/Paris:20240509T090000
DTEND;TZID=Europe/Paris:20240509T200000
SUMMARY:Avec Volt\, la marche Schengen 2024
DESCRIPTION:Marche Schengen\, le 9 mai 2024 Le 16 mars 2019\, Volt Allemagn
 e\, Volt Luxembourg et Volt France ont organisé une marche transfrontaliè
 re qui s'est arrêtée à Apach (FR)\, Perl (DE) et enfin Schengen (LU).  C
 'est à  Schengen  que fut signé l'accord\, entré en vigueur le  26 mars 
 1995\, qui abolissait officiellement les contrôles aux frontières  mutuel
 les de 7 premiers pays européens\, devenus 29 aujourd'hui. A  l'occasion d
 e la fête de l'Europe\, 5 ans plus tard\, nous recréons cet événement r
 éussi pour 
LOCATION:Schengen LU à Perl DE
URL:https://voltfrance.org/evenements/volt-marche-schengen-2024
END:VEVENT
END:VCALENDAR
