BEGIN:VCALENDAR
VERSION:2.0
PRODID:-//Volt Europa//Events//EN
CALSCALE:GREGORIAN
METHOD:PUBLISH
BEGIN:VEVENT
UID:volt-lille-a-la-louche-d-or-1746100800@voltfrance.org
DTSTAMP:20260423T113010Z
DTSTART;TZID=Europe/Paris:20250501T140000
DTEND;TZID=Europe/Paris:20250501T210000
SUMMARY:Volt Lille à La Louche d'Or !
DESCRIPTION:Comme chaque année depuis 2019\, l'équipe de Volt Lille propo
 sera sa fameuse soupe violette\, aux ingrédients locaux et écologiques\, 
 au Festival international de la Louche d'Or.  C'est l'occasion de participe
 r activement au croisement des sensibilités artistiques\, culinaires et cu
 lturelles respectives de tous les continents\, la soupe étant un plat univ
 ersellement partagé.  Et en ce qui concerne Volt\, un moment où vous pour
 rez vous exprimer sur vos priorités pour le budget européen. Nos courageu
 x c
LOCATION:Jardin des Soupes\, 70 rue des Sarrazins\, 59000 Lille - Wazemmes
URL:https://voltfrance.org/evenements/volt-lille-a-la-louche-d-or
END:VEVENT
END:VCALENDAR
