BEGIN:VCALENDAR
VERSION:2.0
PRODID:-//Volt Europa//Events//EN
CALSCALE:GREGORIAN
METHOD:PUBLISH
BEGIN:VEVENT
UID:volt-france-recrute-une-stagiaire-remuneree-1775210400@voltfrance.org
DTSTAMP:20260423T155651Z
DTSTART;TZID=Europe/Paris:20260403T120000
DTEND;TZID=Europe/Paris:20260417T120000
SUMMARY:Volt France recrute un·e stagiaire rémunéré·e
DESCRIPTION:Le stage Vous travaillerez en tant que stagiaire au sein du  Bu
 reau National français . Le stage sera supervisé par le  co-président Sa
 cha Courtial . Vous évoluerez au quotidien en étroite collaboration avec 
 les responsables du parti tout en étant impliqué.e dans un large éventai
 l de tâches liées au développement du mouvement en France.  Politique  
 Assister le Bureau National dans ses tâches quotidiennes. Coordonner la pr
 oduction de documents de recherche et d'orientation\, ainsi que de notes d'
 i
LOCATION:Télétravail et Île-de-France
URL:https://voltfrance.org/evenements/volt-france-recrute-une-stagiaire-rem
 uneree
END:VEVENT
END:VCALENDAR
