BEGIN:VCALENDAR
VERSION:2.0
PRODID:-//Volt Europa//Events//EN
CALSCALE:GREGORIAN
METHOD:PUBLISH
BEGIN:VEVENT
UID:volt-france-a-berlin-galette-des-rois-1737043200@voltfrance.org
DTSTAMP:20260423T113240Z
DTSTART;TZID=Europe/Paris:20250116T170000
DTEND;TZID=Europe/Paris:20250116T190000
SUMMARY:Volt France à Berlin : Galette des Rois !
DESCRIPTION:Rencontrons-nous autour d'une galette pour parler de 2025\, des
  élections et de l'Europe en français ou en allemand :). Avec les candida
 tes Volt aux dernières européennes : Marie-Julie Jacquemot :  Vice-Presid
 ent  @ Emploi-Allemagne e.V. Cecile Richard :  Team Manager @ Hot or Cool I
 nstitute Valérie Chartrain :  Strategic Foresight & Planning. Research. An
 alysis. Action.
LOCATION:Schwedter Straße 1\, Berlin 10119\, Allemagne
URL:https://voltfrance.org/evenements/volt-france-a-berlin-galette-des-rois
END:VEVENT
END:VCALENDAR
