BEGIN:VCALENDAR
VERSION:2.0
PRODID:-//Volt Europa//Events//EN
CALSCALE:GREGORIAN
METHOD:PUBLISH
BEGIN:VEVENT
UID:volt-europa-assemblee-generale-annuelle-en-ligne-1719419400@voltfrance.
 org
DTSTAMP:20260423T083312Z
DTSTART;TZID=Europe/Paris:20240626T183000
DTEND;TZID=Europe/Paris:20240626T210000
SUMMARY:Volt Europa : Assemblée Générale Annuelle en ligne
DESCRIPTION:Assemblée Générale annuelle en vue de soumettre à l'approba
 tion des membres nos comptes financiers pour 2023\, ainsi que des mises à 
 jour de l'équipe de négociation du groupe PE\, de l'équipe stratégique 
 et du Comité d'audit interne. Ordre du jour Heure (CEST) Élément 18:30- 
 18:50 Ouverture de l'AG Ouverture formelle par la présidence Discours de b
 ienvenue (Francesca Romana D'Antuono)  compte rendu des résultats de la c
 ampagne (Mels Klabbers) 18:50-  19:10 Présentation du groupe parlementair
 e euro
LOCATION:Online YouTube Livestream
URL:https://voltfrance.org/evenements/volt-europa-assemblee-generale-annuel
 le-en-ligne
END:VEVENT
END:VCALENDAR
