BEGIN:VCALENDAR
VERSION:2.0
PRODID:-//Volt Europa//Events//EN
CALSCALE:GREGORIAN
METHOD:PUBLISH
BEGIN:VEVENT
UID:volt-a-la-rencontre-des-elus-stella-dupont-deputee-en-commun-1749031200
 @voltfrance.org
DTSTAMP:20260423T094835Z
DTSTART;TZID=Europe/Paris:20250604T120000
DTEND;TZID=Europe/Paris:20250604T140000
SUMMARY:Volt à la rencontre des élus : Stella Dupont\, députée " En Com
 mun ! "
DESCRIPTION:Avec pour projet la fondation prochaine d'un Europarti\,  Anna 
 Strolenberg  députée européenne Volt Europa\,  Achille Coenegracht \, se
 crétaire de Volt Europa et  Sacha Courtial \, secrétaire général\, port
 e parole de Volt France\, rencontrent  Stella Dupont\,  élue du parti En C
 ommun !  Stella Dupont \, députée du Maine et Loire à l'assemblée natio
 nale depuis 2017\, membre du parti de l’écologie\, de la solidarité et 
 de la démocratie citoyenne\, ainsi qu'il se définit\, est distinguée par
  son engagement et
LOCATION:Assemblée Nationale \, Paris
URL:https://voltfrance.org/evenements/volt-a-la-rencontre-des-elus-stella-d
 upont-deputee-en-commun
END:VEVENT
END:VCALENDAR
