BEGIN:VCALENDAR
VERSION:2.0
PRODID:-//Volt Europa//Events//EN
CALSCALE:GREGORIAN
METHOD:PUBLISH
BEGIN:VEVENT
UID:volt-a-la-braderie-de-tourcoing-1725688800@voltfrance.org
DTSTAMP:20260423T094814Z
DTSTART;TZID=Europe/Paris:20240907T080000
DTEND;TZID=Europe/Paris:20240907T153000
SUMMARY:Volt à la braderie de Tourcoing
DESCRIPTION:La tradition des braderies est vivace dans le Nord… à Tourco
 ing aussi ! Volt sera là aussi\, dans le centre ville de Tourcoing.  Avec
  Volt\, pas d'antiquités\, mais de l'énergie\, des idées\, de la solidar
 ité !
LOCATION:Tourcoing
URL:https://voltfrance.org/evenements/volt-a-la-braderie-de-tourcoing
END:VEVENT
END:VCALENDAR
