BEGIN:VCALENDAR
VERSION:2.0
PRODID:-//Volt Europa//Events//EN
CALSCALE:GREGORIAN
METHOD:PUBLISH
BEGIN:VEVENT
UID:volt-a-la-braderie-de-lille-1726293600@voltfrance.org
DTSTAMP:20260422T202459Z
DTSTART;TZID=Europe/Paris:20240914T080000
DTEND;TZID=Europe/Paris:20240915T180000
SUMMARY:Volt à la Braderie de Lille
DESCRIPTION:C'est la plus grande braderie d'Europe\, une foire qui prend se
 s racines dans le moyen âge\, un immense vide grenier\, un marché aux puc
 es\, sur 100 km de rue qui attire chaque année plus de deux millions de vi
 siteurs. On s'y amuse\, il y a des manèges\, on y mange des tonnes de frit
 es et de moules\, ou bien on goûte la gastronomie flamande\, on y boit aus
 si les fameuses bières locales\, en fait on y passe un weekend inoubliable
 . Comme toutes les années\, Volt est présent avec un stand\, une bonne oc
 casion
LOCATION:Lille
URL:https://voltfrance.org/evenements/volt-a-la-braderie-de-lille
END:VEVENT
END:VCALENDAR
