BEGIN:VCALENDAR
VERSION:2.0
PRODID:-//Volt Europa//Events//EN
CALSCALE:GREGORIAN
METHOD:PUBLISH
BEGIN:VEVENT
UID:victoire-contre-le-nazisme-fetons-le-8-mai-1746712800@voltfrance.org
DTSTAMP:20260423T143120Z
DTSTART;TZID=Europe/Paris:20250508T160000
DTEND;TZID=Europe/Paris:20250508T193000
SUMMARY:Victoire contre le nazisme : fêtons le 8 mai !
DESCRIPTION:Mobilisons nous le 8 mai\, pour montrer  notre engagement à l'
 Europe\,  en cet anniversaire de la victoire contre le nazisme.  Programme 
 : 16h : atelier  création de pancartes 17h : début du rassemblement  17h3
 0 : prises de parole et  déploiement du drapeau européen géant  18h30 : 
 fin du rassemblement et moment de convivialité
LOCATION:Rotonde de la Villette\, place de la bataille de Stalingrad\, 7501
 9 Paris
URL:https://voltfrance.org/evenements/victoire-contre-le-nazisme-fetons-le-
 8-mai
END:VEVENT
END:VCALENDAR
