BEGIN:VCALENDAR
VERSION:2.0
PRODID:-//Volt Europa//Events//EN
CALSCALE:GREGORIAN
METHOD:PUBLISH
BEGIN:VEVENT
UID:venez-manifester-avec-nous-pour-une-europe-sans-frontieres-1730548800@v
 oltfrance.org
DTSTAMP:20260423T095310Z
DTSTART;TZID=Europe/Paris:20241102T130000
DTEND;TZID=Europe/Paris:20241102T150000
SUMMARY:Venez manifester avec nous pour une Europe sans frontières !
DESCRIPTION:L’un des principaux acquis de notre projet européen\, notre 
 liberté de circulation\, est menacé par la montée du populisme de droite
 . La France et l'Allemagne réintroduisent des contrôles aux frontières i
 ntra-européennes. La coalition de Geert Wilders aux Pays-Bas vise à renfo
 rcer les contrôles aux frontières\, comme l'a déjà fait le gouvernement
  allemand de centre-gauche\, sans qu'il y ait d'opposition à cette politiq
 ue en Allemagne\, ce qui met en péril l'avenir de l'Europe libre. La néce
 ssité d'un
LOCATION:La Mairie d'Apach\, 12 Rue nationale\, 57480 Apach\, France
URL:https://voltfrance.org/evenements/venez-manifester-avec-nous-pour-une-e
 urope-sans-frontieres
END:VEVENT
END:VCALENDAR
