BEGIN:VCALENDAR
VERSION:2.0
PRODID:-//Volt Europa//Events//EN
CALSCALE:GREGORIAN
METHOD:PUBLISH
BEGIN:VEVENT
UID:unir-leurope-face-aux-defis-de-demain-conference-1761238800@voltfrance.
 org
DTSTAMP:20260423T113230Z
DTSTART;TZID=Europe/Paris:20251023T190000
DTEND;TZID=Europe/Paris:20251023T220000
SUMMARY:Unir l'Europe face aux dÃ©fis de demain  - confÃ©rence
DESCRIPTION:Alors que lâ€™Europe fait face Ã  la guerre en Ukraine\, aux me
 naces de Poutine\, Ã  lâ€™incertitude liÃ©e au retour de Trump et Ã  la mon
 tÃ©e des mouvements nationaux populistes\, une question devient urgente : c
 omment rendre lâ€™Europe plus forte et plus souveraine ? Le @Mouvement libÃ
 ©ral Ã©tudiant et Volt Belgium vous invitent Ã  en dÃ©battre avec la coprÃ©
 sidente de Volt Europa\,  Francesca Romana d'Antuono \, et Ã  dÃ©couvrir co
 mment construire une Europe capable de protÃ©ger ses citoyens et dâ€™agir s
 ur la scÃ¨ne m
LOCATION:Auditoire Stud 11\, place Agora 19\, Louvain-la-Neuve\, Belgique
URL:https://voltfrance.org/evenements/unir-leurope-face-aux-defis-de-demain
 -conference
END:VEVENT
END:VCALENDAR
