BEGIN:VCALENDAR
VERSION:2.0
PRODID:-//Volt Europa//Events//EN
CALSCALE:GREGORIAN
METHOD:PUBLISH
BEGIN:VEVENT
UID:une-rencontre-gastronomique-avec-sven-franck-et-la-liste-de-coalition-e
 te-1714568400@voltfrance.org
DTSTAMP:20260423T113454Z
DTSTART;TZID=Europe/Paris:20240501T150000
DTEND;TZID=Europe/Paris:20240501T220000
SUMMARY:Une rencontre gastronomique avec Sven Franck et la coalition ETÉ
DESCRIPTION:Comme chaque année\, Volt Lille  participe à la fête de la s
 oupe\, mais cette année ce sera avec nos partenaires de la coalition ETE\,
  et notre soupe\, traditionnellement violette\, s'enrichira des meilleurs i
 ngrédients et des idées apportés par nos amis.  En fait la version hiver
 nale du célèbre barbecue européen de Daphné ! Nos cuisiniers sont europ
 éens\, nos ingrédients territoriaux et écologiques ! Volt Lille ramène 
 sa soupe violette au festival de la Louche d'or... alors ramène ta soupe !
  Froide o
LOCATION:Maison Folie Wazemmes\, 70 Rue des Sarrazins\, 59000 Lille
URL:https://voltfrance.org/evenements/une-rencontre-gastronomique-avec-sven
 -franck-et-la-liste-de-coalition-ete
END:VEVENT
END:VCALENDAR
