BEGIN:VCALENDAR
VERSION:2.0
PRODID:-//Volt Europa//Events//EN
CALSCALE:GREGORIAN
METHOD:PUBLISH
BEGIN:VEVENT
UID:un-toit-cest-un-droit-1743856200@voltfrance.org
DTSTAMP:20260423T095223Z
DTSTART;TZID=Europe/Paris:20250405T143000
DTEND;TZID=Europe/Paris:20250405T173000
SUMMARY:Un toit\, c'est un droit ! Manifestation à Lille
DESCRIPTION:Avec la fin de la trêve hivernale et des évènements comme l'
 expulsion des occupants de la Gaité lyrique à Paris la semaine dernière\
 , nous savons que les conditions de vie des personnes mal logées ou à la 
 rue sont en passe de s'aggraver dans les mois qui viennent. De nombreuses a
 ssociations s'efforcent jour après jour de pallier aux manquements des ser
 vices publics dans ce domaine. Elles appellent à une manifestation à Lill
 e et dans toute la France pour rappeler le droit de chacun à un logement d
LOCATION:Grand place\, 59000 Lille.
URL:https://voltfrance.org/evenements/un-toit-cest-un-droit
END:VEVENT
END:VCALENDAR
