BEGIN:VCALENDAR
VERSION:2.0
PRODID:-//Volt Europa//Events//EN
CALSCALE:GREGORIAN
METHOD:PUBLISH
BEGIN:VEVENT
UID:tractage-en-vue-de-lelection-legislative-partielle-2-eme-circo-paris-17
 57145600@voltfrance.org
DTSTAMP:20260423T113318Z
DTSTART;TZID=Europe/Paris:20250906T100000
DTEND;TZID=Europe/Paris:20250906T180000
SUMMARY:Tractage en vue de l'élection législative partielle 2-ème circo 
 Paris
DESCRIPTION:Volt présente des candidats à l'élection législative partie
 lle pour le 2eme circonscription de Paris Rejoignez nous devant la mairie d
 u 5-ème arrondissement pour faire connaissance avec Anne Chamayou et Fréd
 éric Marescaux !
LOCATION:Forum des Associations \, 21 place du Panthéon\, 75005 Paris
URL:https://voltfrance.org/evenements/tractage-en-vue-de-lelection-legislat
 ive-partielle-2-eme-circo-paris
END:VEVENT
END:VCALENDAR
