BEGIN:VCALENDAR
VERSION:2.0
PRODID:-//Volt Europa//Events//EN
CALSCALE:GREGORIAN
METHOD:PUBLISH
BEGIN:VEVENT
UID:table-ronde-quelles-perspectives-pour-une-diplomatie-et-une-defense-eur
 opeennes-1750093200@voltfrance.org
DTSTAMP:20260423T113524Z
DTSTART;TZID=Europe/Paris:20250616T190000
DTEND;TZID=Europe/Paris:20250616T210000
SUMMARY:Table ronde : Quelles perspectives pour une diplomatie et une défe
 nse européennes   ?
DESCRIPTION:Nous sommes invités à assister à une table ronde  organisée
  par l'Alliance Centriste. Le thème est d'un intérêt majeur pour Volt et
  potentiellement nous sommes intéressés à la formation éventuelle d'une
  plateforme Centriste de petits partis pour les municipales. Un verre de l'
 amitié sera proposé par l'Alliance Centriste à l'issue de la table ronde
 .
LOCATION:Siège de l'Alliance Centriste\, 1 place de Valois\, 75001 Paris.
URL:https://voltfrance.org/evenements/table-ronde-quelles-perspectives-pour
 -une-diplomatie-et-une-defense-europeennes
END:VEVENT
END:VCALENDAR
