BEGIN:VCALENDAR
VERSION:2.0
PRODID:-//Volt Europa//Events//EN
CALSCALE:GREGORIAN
METHOD:PUBLISH
BEGIN:VEVENT
UID:table-ronde-humanite-sans-frontieres-1713978000@voltfrance.org
DTSTAMP:20260423T074002Z
DTSTART;TZID=Europe/Paris:20240424T190000
DTEND;TZID=Europe/Paris:20240424T200000
SUMMARY:Table Ronde "Humanité sans Frontières"
DESCRIPTION:Avec Ulysse Gounelle  Co-président de Volt Sciences Po Volt es
 t l’incarnation même de la devise européenne : Unis dans la diversité.
  Cela se voit de manière très concrète dans mon travail : je parle au qu
 otidien avec des citoyennes et des citoyens de tout le continent\, des alle
 mand.e.s\, des danois.e.s\, des roumain.e.s\, des portugai.se.s… En tant 
 que responsable du réseau européen Volt Violet de jeunes de Volt\, je pre
 nds beaucoup de plaisir à réunir toutes ces cultures autour d’un projet
  commun :
LOCATION:Place du Temple Neuf\, Strasbourg
URL:https://voltfrance.org/evenements/table-ronde-humanite-sans-frontieres
END:VEVENT
END:VCALENDAR
