BEGIN:VCALENDAR
VERSION:2.0
PRODID:-//Volt Europa//Events//EN
CALSCALE:GREGORIAN
METHOD:PUBLISH
BEGIN:VEVENT
UID:sven-frank-invite-du-collectif-convergences-numeriques-1714060800@voltf
 rance.org
DTSTAMP:20260423T113300Z
DTSTART;TZID=Europe/Paris:20240425T180000
DTEND;TZID=Europe/Paris:20240425T210000
SUMMARY:Sven Frank invitÃ© du collectif Convergences NumÃ©riques
DESCRIPTION:Le collectif Convergences NumÃ©riques organise une confÃ©rence-
 dÃ©bat\, Face Ã  face avec les candidats\, le 25 avril\, Ã  laquelle sont c
 onviÃ©es les Ã©quipes de candidats aux Ã©lections europÃ©ennes.  CrÃ©Ã© en 
 2022 par dix associations et organisations professionnelles du secteur numÃ
 ©rique\, le collectif Convergences NumÃ©riques avait Ã©laborÃ© une platefor
 me programmatique commune pour placer le numÃ©rique au cÅ“ur de la campagne
  prÃ©sidentielle.  Aujourd'hui\, en vue des Ã©lections europÃ©ennes du 9 ju
 in\, Converge
LOCATION:Centre De ConfÃ©rence Etoile Saint HonorÃ© 21/25 Rue Balzac\, 7500
 8 Paris
URL:https://voltfrance.org/evenements/sven-frank-invite-du-collectif-conver
 gences-numeriques
END:VEVENT
END:VCALENDAR
