BEGIN:VCALENDAR
VERSION:2.0
PRODID:-//Volt Europa//Events//EN
CALSCALE:GREGORIAN
METHOD:PUBLISH
BEGIN:VEVENT
UID:super-tractage-transfrontalier-a-lille-1765098000@voltfrance.org
DTSTAMP:20260423T130705Z
DTSTART;TZID=Europe/Paris:20251207T100000
DTEND;TZID=Europe/Paris:20251207T170000
SUMMARY:Super tractage transfrontalier à Lille !
DESCRIPTION:Volt Lille organise une journée de tractage à laquelle sont i
 nvités nos amis de Volt Belgique et de Volt Ile de France\, à charge de r
 evanche. Nous espérons une bonne participation des volteurs Lillois\, Belg
 es et Parisiens\, qui viennent d'affronter sans fléchir les rigueurs de l'
 hiver allemand à l'AG de Francfort\, rien ne les arrêtera !
LOCATION:Rendez vous Gare de Lille Flandres \, 59000 LILLE
URL:https://voltfrance.org/evenements/super-tractage-transfrontalier-a-lill
 e
END:VEVENT
END:VCALENDAR
