BEGIN:VCALENDAR
VERSION:2.0
PRODID:-//Volt Europa//Events//EN
CALSCALE:GREGORIAN
METHOD:PUBLISH
BEGIN:VEVENT
UID:stammtisch-volt-strasbourg-1734546600@voltfrance.org
DTSTAMP:20260423T083301Z
DTSTART;TZID=Europe/Paris:20241218T193000
DTEND;TZID=Europe/Paris:20241218T220000
SUMMARY:Stammtisch Volt Strasbourg
DESCRIPTION:Viens rencontrer l'équipe strasbourgeoise de Volt autour d'un 
 verre ! Les prochaines semaines vont surtout être marquées par notre camp
 agne de recrutement et notre soutien à la campagne allemande de Volt pour 
 les élections anticipées du Parlement allemand\, prévues en Février.
LOCATION:Le Tigre\, 5 rue du Faubourg-National\, 67000 Stasbourg
URL:https://voltfrance.org/evenements/stammtisch-volt-strasbourg
END:VEVENT
END:VCALENDAR
