BEGIN:VCALENDAR
VERSION:2.0
PRODID:-//Volt Europa//Events//EN
CALSCALE:GREGORIAN
METHOD:PUBLISH
BEGIN:VEVENT
UID:stammtisch-volt-strasbourg-1-1739989800@voltfrance.org
DTSTAMP:20260423T113001Z
DTSTART;TZID=Europe/Paris:20250219T193000
DTEND;TZID=Europe/Paris:20250219T220000
SUMMARY:Stammtisch Volt Strasbourg
DESCRIPTION:Viens rencontrer l'équipe strasbourgeoise de Volt autour d'un 
 verre ! Les prochaines semaines vont surtout être marquées par notre camp
 agne de recrutement et notre soutien à la campagne de Volt Allemagne pour 
 les élections anticipées du 23 février 2025 au Parlement allemand en vue
  d' élire les 630 membres du 21e Bundestag.
LOCATION:Le Tigre\, 5 rue du Faubourg-National\, 67000 Stasbourg
URL:https://voltfrance.org/evenements/stammtisch-volt-strasbourg-1
END:VEVENT
END:VCALENDAR
