BEGIN:VCALENDAR
VERSION:2.0
PRODID:-//Volt Europa//Events//EN
CALSCALE:GREGORIAN
METHOD:PUBLISH
BEGIN:VEVENT
UID:stammtisch-volt-strasbourg-1-1-1741804200@voltfrance.org
DTSTAMP:20260423T113010Z
DTSTART;TZID=Europe/Paris:20250312T193000
DTEND;TZID=Europe/Paris:20250312T220000
SUMMARY:Stammtisch Volt Strasbourg
DESCRIPTION:Viens rencontrer l'équipe strasbourgeoise de Volt autour d'un 
 verre ! Notre soutien à la campagne de Volt Allemagne pour les élections 
 anticipées du 23 février 2025 au Parlement allemand a payé! Nos voisins 
 de Volt ont été parmi les dix seuls partis sur 29 qui ont réussi à se p
 résenter dans tous les Länder. La première étape pour se présenter\, c
 'est de réunir le nombre de signatures de soutien nécessaires.  Nous avon
 s participé en tant que transfrontaliers à la campagne de collecte des si
 gnature
LOCATION:Le Tigre\, 5 rue du Faubourg-National\, 67000 Stasbourg
URL:https://voltfrance.org/evenements/stammtisch-volt-strasbourg-1-1
END:VEVENT
END:VCALENDAR
