BEGIN:VCALENDAR
VERSION:2.0
PRODID:-//Volt Europa//Events//EN
CALSCALE:GREGORIAN
METHOD:PUBLISH
BEGIN:VEVENT
UID:sommet-international-change-now-1745478000@voltfrance.org
DTSTAMP:20260423T095223Z
DTSTART;TZID=Europe/Paris:20250424T090000
DTEND;TZID=Europe/Paris:20250426T180000
SUMMARY:Sommet international ChangeNOW !
DESCRIPTION:Volt est partenaire du plus grand évènement de solutions pour
  la planète qui se tient cette année à Paris. Volt Europa est invité à
  y présenter  VoltSense \, une occasion unique de faire connaitre nos outi
 ls démocratiques innovants parmi 300 solutions sélectionnées.
LOCATION:Grand Palais\, 75000 Paris
URL:https://voltfrance.org/evenements/sommet-international-change-now
END:VEVENT
END:VCALENDAR
