BEGIN:VCALENDAR
VERSION:2.0
PRODID:-//Volt Europa//Events//EN
CALSCALE:GREGORIAN
METHOD:PUBLISH
BEGIN:VEVENT
UID:soirees-speciale-elections-europeennes-avec-volt-europa-1717963200@volt
 france.org
DTSTAMP:20260423T155107Z
DTSTART;TZID=Europe/Paris:20240609T220000
DTEND;TZID=Europe/Paris:20240609T230000
SUMMARY:Soirées spéciale "élections européennes" avec Volt Europa
DESCRIPTION:Suivez les résultats de l'ensemble des scrutins nationaux en E
 urope dans lesquels Volt s'est présenté  Nous savons que la Slovaquie\, l
 a Tchèquie et Malte connaîtront leurs sondages de sortie des urnes le 8\,
  nous commencerons donc par ces résultats. Puis ça sera le tour de : Belg
 ique\, Bulgarie\, Slovaquie\, Chypre\, France\, Grèce\, Allemagne\, Luxemb
 ourg\, Espagne\, Portugal\, Italie.
LOCATION:Online
URL:https://voltfrance.org/evenements/soirees-speciale-elections-europeenne
 s-avec-volt-europa
END:VEVENT
END:VCALENDAR
