BEGIN:VCALENDAR
VERSION:2.0
PRODID:-//Volt Europa//Events//EN
CALSCALE:GREGORIAN
METHOD:PUBLISH
BEGIN:VEVENT
UID:soiree-exceptionnelle-avec-kokopello-1719334800@voltfrance.org
DTSTAMP:20260423T112951Z
DTSTART;TZID=Europe/Paris:20240625T190000
DTEND;TZID=Europe/Paris:20240625T210000
SUMMARY:Soirée exceptionnelle avec Kokopello
DESCRIPTION:Volt France vous invite à une  soirée exceptionnelle  le 25
  Juin à Paris\, à partir de 19h.  Nous aurons le plaisir d'accueillir  
 Kokopello\, auteur de  La Tour de Babel \, qui viendra nous présenter son
  livre sur les institutions européennes.  Les résultats des élections e
 uropéennes ont révélé une  menace réelle pour notre démocratie  et 
 pour l’Europe. Le risque de voir les populistes accéder au pouvoir est p
 lus clair que jamais.  Leur discours corrosif et divisant nécessite une mo
 bilisation imméd
LOCATION:Librairie Compagnie\, 58 rue des Écoles\, 7500 Paris
URL:https://voltfrance.org/evenements/soiree-exceptionnelle-avec-kokopello
END:VEVENT
END:VCALENDAR
