BEGIN:VCALENDAR
VERSION:2.0
PRODID:-//Volt Europa//Events//EN
CALSCALE:GREGORIAN
METHOD:PUBLISH
BEGIN:VEVENT
UID:soiree-dechange-sur-la-transition-ecologique-dans-le-monde-1747328400@v
 oltfrance.org
DTSTAMP:20260423T113230Z
DTSTART;TZID=Europe/Paris:20250515T190000
DTEND;TZID=Europe/Paris:20250515T210000
SUMMARY:Soirée d'échange sur la transition écologique dans le monde
DESCRIPTION:Nous sommes invités par mesdames Stella Dupont\, députée du 
 Maine et Loire et Cécile Rilhac\, présidente d'En Commun ! à participer 
 à une soirée d'échange autour du rapport de mesdames Barbara Pompili et 
 Virginie Dumoulin sur la planification de la transition écologique à trav
 ers le monde\, et leurs recommandations pour renforcer la planification fra
 nçaise. Inscription obligatoire  : Il est nécessaire de s'inscrire auprè
 s de Volt Ile de France avant le 9 mai pour être invité !
LOCATION:1-er Bureau\, Assemblée nationale\, 125 rue de l'université\, 75
 007 Paris
URL:https://voltfrance.org/evenements/soiree-dechange-sur-la-transition-eco
 logique-dans-le-monde
END:VEVENT
END:VCALENDAR
