BEGIN:VCALENDAR
VERSION:2.0
PRODID:-//Volt Europa//Events//EN
CALSCALE:GREGORIAN
METHOD:PUBLISH
BEGIN:VEVENT
UID:science-po-rendez-vous-avec-damian-boeselager-1759338900@voltfrance.org
DTSTAMP:20260423T113137Z
DTSTART;TZID=Europe/Paris:20251001T191500
DTEND;TZID=Europe/Paris:20251001T210000
SUMMARY:Science Politique : Rendez vous avec Damian Boeselager
DESCRIPTION:Sciences Po Paris organise une conférence  autour du prochain 
 budget de l'Union européenne.  Tous les étudiants sont invités à venir 
 parler politique\, démocratie et futur de l'Europe avec le le co-fondateur
  de Volt et membre du Parlement européen  Damian Boeselager \,  sur inscri
 ption   Ne manquez pas l'occasion !
LOCATION:Salle Jeannie de Clarens\, 27\, rue saint Guillaume \, 75007 Paris
URL:https://voltfrance.org/evenements/science-po-rendez-vous-avec-damian-bo
 eselager
END:VEVENT
END:VCALENDAR
