BEGIN:VCALENDAR
VERSION:2.0
PRODID:-//Volt Europa//Events//EN
CALSCALE:GREGORIAN
METHOD:PUBLISH
BEGIN:VEVENT
UID:sagesse-electoral-cest-a-toi-mais-silence-electoral-cest-la-loi-1720216
 500@voltfrance.org
DTSTAMP:20260423T113318Z
DTSTART;TZID=Europe/Paris:20240705T235500
DTEND;TZID=Europe/Paris:20240707T210500
SUMMARY:La sagesse électorale : c'est à toi\, mais le silence électoral 
 : c'est la loi !
DESCRIPTION:Notre site sera en suspens dès vendredi 5 juin minuit... Le si
 lence électoral est l'interdiction de la propagande politique avant une é
 lection.  L'article L49 du Code électoral  est clair : "A partir de la ve
 ille du scrutin à zéro heure"\, interdiction formelle des meetings\, pas 
 de prise de parole des candidats\, pas de sondages non plus. Objectif : do
 nner aux électeurs un temps de réflexion avant d’aller voter en conscie
 nce. Nous revenons dimanche soir...
LOCATION:Partout
URL:https://voltfrance.org/evenements/sagesse-electoral-cest-a-toi-mais-sil
 ence-electoral-cest-la-loi
END:VEVENT
END:VCALENDAR
