BEGIN:VCALENDAR
VERSION:2.0
PRODID:-//Volt Europa//Events//EN
CALSCALE:GREGORIAN
METHOD:PUBLISH
BEGIN:VEVENT
UID:reunion-publique-1713974400@voltfrance.org
DTSTAMP:20260425T162818Z
DTSTART;TZID=Europe/Paris:20240424T180000
DTEND;TZID=Europe/Paris:20240424T200000
SUMMARY:Réunion publique
DESCRIPTION:Avec  Adrien Copros Co-President Volt France et candidat Volt
LOCATION:Le Dôme\, 2 avenue Georges Clemenceau\, 34000 Montpellier
URL:https://voltfrance.org/evenements/reunion-publique
END:VEVENT
END:VCALENDAR
