BEGIN:VCALENDAR
VERSION:2.0
PRODID:-//Volt Europa//Events//EN
CALSCALE:GREGORIAN
METHOD:PUBLISH
BEGIN:VEVENT
UID:reunion-publique-ete-et-les-droits-des-femmes-et-leurope-a-blois-171691
 2000@voltfrance.org
DTSTAMP:20260423T113524Z
DTSTART;TZID=Europe/Paris:20240528T180000
DTEND;TZID=Europe/Paris:20240528T200000
SUMMARY:RÃ©union publique : ETÃ‰ et les droits des Femmes et l'Europe Ã  Bl
 ois
DESCRIPTION:Dans le cadre des Ã©lections europÃ©ennes du 9 juin la liste Â«
  Europe\, territoires\, Ã©cologie Â» conduite par Guillaume Lacroix\, prÃ©s
 ident du Parti radical de gauche\, organise une rÃ©union publique sur les d
 roits des femmes et lâ€™Europe avec 3 candidates de la liste : Lydie Massar
 d  dÃ©putÃ©e europÃ©enne (RPS)\, 2e CÃ©cile Caillou-Robert  conseillÃ¨re rÃ
 ©gionale du Centre-Val de Loire (PRG)\, 6e Rayna Stamboliyska  spÃ©cialiste
  de cyber sÃ©curitÃ© (Volt)\, 10e La table ronde sera prÃ©sentÃ©e et animÃ©
 e par Aurore Al
LOCATION:Galerie d'Art Wilson\, 23 Av. du PrÃ©sident Wilson\, 41000 Blois
URL:https://voltfrance.org/evenements/reunion-publique-ete-et-les-droits-de
 s-femmes-et-leurope-a-blois
END:VEVENT
END:VCALENDAR
