BEGIN:VCALENDAR
VERSION:2.0
PRODID:-//Volt Europa//Events//EN
CALSCALE:GREGORIAN
METHOD:PUBLISH
BEGIN:VEVENT
UID:retrouvez-tous-tes-nos-candidats-es-pour-le-francais-a-letranger-171925
 2000@voltfrance.org
DTSTAMP:20260423T113454Z
DTSTART;TZID=Europe/Paris:20240624T200000
DTEND;TZID=Europe/Paris:20240624T210000
SUMMARY:Retrouvez tous.tes nos candidats.es pour le Français à l'étrange
 r !
DESCRIPTION:Cécile RICHARD 7-eme circonscription Sacha COURTIAL 4-eme circ
 onscription Valérie CHARTAIN 8-eme circonscription Alexandre MARIE 5-eme c
 irconscription Marie-Julie JACQUEMOT 6-eme circonscription Tanguy PINOMAA-D
 ANZÉ 7-eme circonscription
LOCATION:Webinaire
URL:https://voltfrance.org/evenements/retrouvez-tous-tes-nos-candidats-es-p
 our-le-francais-a-letranger
END:VEVENT
END:VCALENDAR
