BEGIN:VCALENDAR
VERSION:2.0
PRODID:-//Volt Europa//Events//EN
CALSCALE:GREGORIAN
METHOD:PUBLISH
BEGIN:VEVENT
UID:rendez-vous-au-musee-de-lautomobile-avec-volt-europa-1757772000@voltfra
 nce.org
DTSTAMP:20260423T074251Z
DTSTART;TZID=Europe/Paris:20250913T160000
DTEND;TZID=Europe/Paris:20250913T190000
SUMMARY:Rendez-vous au musée de l'automobile avec Volt Europa
DESCRIPTION:En marge de l'Assemblée Générale annuelle de Volt France\, V
 olt Europa organise une rencontre\, ouverte au public\, au musée de l'auto
 mobile à Mulhouse.  C'est une occasion unique de faire connaissance avec n
 os élus européens\, les militants de Volt France\, les candidats à l'él
 ection du prochain bureau national\, et de célébrer la vision Volt d'une 
 Europe unie\, démocratique et solidaire. 📅 Samedi 13 septembre 🕐   1
 6h00 - 16h15  :  Présentation Volt Europa  par Slavomír Maňásek 🕐  
  16h15 - 17h00  :  P
LOCATION:Musée de l'automobile\, 17 rue de la Mertzau\, 68 100 Mulhouse.
URL:https://voltfrance.org/evenements/rendez-vous-au-musee-de-lautomobile-a
 vec-volt-europa
END:VEVENT
END:VCALENDAR
