BEGIN:VCALENDAR
VERSION:2.0
PRODID:-//Volt Europa//Events//EN
CALSCALE:GREGORIAN
METHOD:PUBLISH
BEGIN:VEVENT
UID:rendez-vous-a-saint-jean-de-luz-1753880400@voltfrance.org
DTSTAMP:20260423T113034Z
DTSTART;TZID=Europe/Paris:20250730T150000
DTEND;TZID=Europe/Paris:20250730T170000
SUMMARY:Rendez vous à Saint Jean de Luz
DESCRIPTION:En vacances\, de passage\, ou résident\, ne manquez pas le ren
 dez vous avec l'équipe locale de Volt pour commencer à parler des futures
  municipales\, et de vos aspirations à une meilleure société\, qui comme
  chacun le sait commence au coin de la rue\, dans l'organisation locale \, 
 dans les transports bien organisés\, dans la sécurité  de proximité\, d
 ans les écoles bien gérées\, en fait beaucoup dépend de l'équipe munic
 ipale que nous choisissons.   N'attendons pas la dernière minute pour en p
 arler\, Volt a
LOCATION:Bar Le Majestic\, 7 place Louis XIV\, 64500 Saint Jean de Luz
URL:https://voltfrance.org/evenements/rendez-vous-a-saint-jean-de-luz
END:VEVENT
END:VCALENDAR
