BEGIN:VCALENDAR
VERSION:2.0
PRODID:-//Volt Europa//Events//EN
CALSCALE:GREGORIAN
METHOD:PUBLISH
BEGIN:VEVENT
UID:rencontre-volt-francophone-a-hambourg-1758213000@voltfrance.org
DTSTAMP:20260423T155641Z
DTSTART;TZID=Europe/Paris:20250918T183000
DTEND;TZID=Europe/Paris:20250918T203000
SUMMARY:Rencontre Volt francophone à Hambourg
DESCRIPTION:Si vous voulez une Europe plus forte\, plus verte et plus égal
 itaire... Alors venez discuter avec nous\, vos questions et vos proposition
 s seront les bienvenues pour construire l’Europe de demain et préparer l
 es élections consulaires et communales de 2026\, en France ! Avec Cécile 
 Richard co-présidente de Volt France\, qui réside à Berlin et travaille 
 dans le développement durable Les Écologistes - EELV Allemagne\; le Parti
  Socialiste : la FFE PS\;  L'Union des Démocrates et Indépendants en Alle
 magne 
LOCATION:Hadley’s\, Beim Schlump 84a\, 20144 Hambourg\, Allemagne.
URL:https://voltfrance.org/evenements/rencontre-volt-francophone-a-hambourg
END:VEVENT
END:VCALENDAR
