BEGIN:VCALENDAR
VERSION:2.0
PRODID:-//Volt Europa//Events//EN
CALSCALE:GREGORIAN
METHOD:PUBLISH
BEGIN:VEVENT
UID:rencontre-litteraire-avec-nicole-gnesotto-1764266400@voltfrance.org
DTSTAMP:20260423T113403Z
DTSTART;TZID=Europe/Paris:20251127T190000
DTEND;TZID=Europe/Paris:20251127T210000
SUMMARY:Rencontre littéraire avec Nicole Gnesotto
DESCRIPTION:Le monde occidental\, tel qu’il s’est construit à la sorti
 e de la Seconde Guerre mondiale\, se fissure aujourd’hui de toutes parts.
  Comment en est-on arrivé là ? Au-delà de la menace extérieure que repr
 ésente Vladimir Poutine pour l’Europe ou des critiques visant le « doub
 le standard » occidental sur les grands dossiers internationaux\, la contr
 e-révolution politique de Donald Trump constitue une menace plus insidieus
 e – et peut-être plus fatale – pour la survie même du concept de « m
 onde occidenta
LOCATION:Librairie Compagnie\, 58 rue des Ecoles\, 75005 Paris
URL:https://voltfrance.org/evenements/rencontre-litteraire-avec-nicole-gnes
 otto
END:VEVENT
END:VCALENDAR
