BEGIN:VCALENDAR
VERSION:2.0
PRODID:-//Volt Europa//Events//EN
CALSCALE:GREGORIAN
METHOD:PUBLISH
BEGIN:VEVENT
UID:rencontre-avec-nathalie-loiseau-aux-armes-europeens-1777914000@voltfran
 ce.org
DTSTAMP:20260421T104132Z
DTSTART;TZID=Europe/Paris:20260504T190000
DTEND;TZID=Europe/Paris:20260504T210000
SUMMARY:Rencontre avec Nathalie Loiseau : Aux Armes\, EuropÃ©ens !
DESCRIPTION:Lâ€™Europe dÃ©couvre brutalement que la paix nâ€™Ã©tait pas acq
 uise pour lâ€™Ã©ternitÃ©. Nous qui pensions pouvoir vivre des Â« dividendes
  de la paix Â» devons aujourdâ€™hui affronter une rÃ©alitÃ© implacable : on
  ne nous respecte plus. Mais loin de cÃ©der au pessimisme\, Nathalie Loisea
 u trace la voie dâ€™un sursaut nÃ©cessaire. Car il existe une alternative Ã
   la soumission : construire enfin une vÃ©ritable dÃ©fense europÃ©enne. Un 
 appel vibrant Ã  la mobilisation de tous les citoyens europÃ©ens pour dÃ©fe
 ndre nos dÃ©mocr
LOCATION:Librairie Compagnie\, 58 rue des Ecoles\, 75005 Paris
URL:https://voltfrance.org/evenements/rencontre-avec-nathalie-loiseau-aux-a
 rmes-europeens
END:VEVENT
END:VCALENDAR
