BEGIN:VCALENDAR
VERSION:2.0
PRODID:-//Volt Europa//Events//EN
CALSCALE:GREGORIAN
METHOD:PUBLISH
BEGIN:VEVENT
UID:rencontre-avec-maral-koohestanian-de-volt-allemagne-1736877600@voltfran
 ce.org
DTSTAMP:20260423T113404Z
DTSTART;TZID=Europe/Paris:20250114T190000
DTEND;TZID=Europe/Paris:20250114T210000
SUMMARY:Rencontre avec Maral Koohestanian de Volt Allemagne
DESCRIPTION:Dans le cadre de notre recherche des meilleures pratiques à pa
 rtager en Europe\, Maral Koohestenian\, tête de liste aux élections légi
 slatives en Allemagne\, visite les experts mobilité de notre capitale\, et
  se fera un plaisir de rencontrer les Volteurs et sympathisants locaux et d
 e partager son expérience avec eux.  Entrée Libre\, Venez nombreux !
LOCATION:Station F La Felicità\, 5 parvis Alan Turing\, 75013 PARIS
URL:https://voltfrance.org/evenements/rencontre-avec-maral-koohestanian-de-
 volt-allemagne
END:VEVENT
END:VCALENDAR
