BEGIN:VCALENDAR
VERSION:2.0
PRODID:-//Volt Europa//Events//EN
CALSCALE:GREGORIAN
METHOD:PUBLISH
BEGIN:VEVENT
UID:rencontre-avec-eva-roitmann-notre-candidate-pour-le-vaucluse-1717315200
 @voltfrance.org
DTSTAMP:20260423T155717Z
DTSTART;TZID=Europe/Paris:20240602T100000
DTEND;TZID=Europe/Paris:20240602T180000
SUMMARY:Rencontre avec Eva Roitmann notre candidate pour le Vaucluse
DESCRIPTION:Volt Sud Méditerranée\, organise une rencontre avec notre can
 didate Eva Roitmann en marge de la  Gratuiterie Festive organisée par l'as
 sociation Au Maquis\, au café Villageois de Lauris. il s'agit d'une rencon
 tre champêtre avec possibilité d'intérieur en cas de mauvaise météo. R
 estauration sur place toute la journée proposée par une association. Eva 
 Roitmann viendra en voisine répondre à vos questions sur l'agroforesterie
  et la meilleure façon de contribuer à la gestion régénérative des ter
 res et 
LOCATION:Café Villageois\, Avenue de la Gare\, 84360 Lauris
URL:https://voltfrance.org/evenements/rencontre-avec-eva-roitmann-notre-can
 didate-pour-le-vaucluse
END:VEVENT
END:VCALENDAR
