BEGIN:VCALENDAR
VERSION:2.0
PRODID:-//Volt Europa//Events//EN
CALSCALE:GREGORIAN
METHOD:PUBLISH
BEGIN:VEVENT
UID:rassemblement-pour-la-defense-de-letat-de-droit-1744469100@voltfrance.o
 rg
DTSTAMP:20260423T113230Z
DTSTART;TZID=Europe/Paris:20250412T164500
DTEND;TZID=Europe/Paris:20250412T180000
SUMMARY:Rassemblement pour la défense de l'Etat de droit
DESCRIPTION:Volt appelle ses militants et sympathisants à se joindre à la
  manifestation pour la défense de l'Etat de droit\, à la suite de la remi
 se en cause de ce dernier par l'extrême droite. Saluons pour l'occasion la
  coopération entre les autorités judiciaires et policières françaises e
 t européennes\, et notamment le travail de l'Office européen de lutte ant
 ifraude (OLAF) qui a révélé dès 2014 le système frauduleux mis en plac
 e par le RN.
LOCATION:Brasserie Les Parigots\, 5 rue du Château d'Eau - Paris (10)
URL:https://voltfrance.org/evenements/rassemblement-pour-la-defense-de-leta
 t-de-droit
END:VEVENT
END:VCALENDAR
