BEGIN:VCALENDAR
VERSION:2.0
PRODID:-//Volt Europa//Events//EN
CALSCALE:GREGORIAN
METHOD:PUBLISH
BEGIN:VEVENT
UID:piquenique-a-la-citadelle-de-lille-1751205600@voltfrance.org
DTSTAMP:20260423T130748Z
DTSTART;TZID=Europe/Paris:20250629T160000
DTEND;TZID=Europe/Paris:20250629T193000
SUMMARY:Piquenique à la citadelle de Lille
DESCRIPTION:Venez participer au piquenique organisé par Volt Lille ce dima
 nche ! Vous retrouverez l'équipe lilloise pour un moment convivial et pour
 rez aussi discuter politique et notamment des municipales qui arrivent l'an
 née prochaine. N'hésitez pas à ramener un petit quelque chose ! La local
 isation précise sera postée sur Instagram le jour même.  Au plaisir de s
 e voir\, et à bientôt ! Merci à Volt Autriche\, Hongrie et Slovaquie pou
 r la photo .
LOCATION:Parc de la citadelle\, 59000 Lille
URL:https://voltfrance.org/evenements/piquenique-a-la-citadelle-de-lille
END:VEVENT
END:VCALENDAR
