BEGIN:VCALENDAR
VERSION:2.0
PRODID:-//Volt Europa//Events//EN
CALSCALE:GREGORIAN
METHOD:PUBLISH
BEGIN:VEVENT
UID:ou-que-vous-soyez-faites-le-plein-devenements-europeen-1715874000@voltf
 rance.org
DTSTAMP:20260423T113358Z
DTSTART;TZID=Europe/Paris:20240516T174000
DTEND;TZID=Europe/Paris:20240609T174000
SUMMARY:Où que vous soyez\, faites le plein d'évènements européens
DESCRIPTION:Les maisons de l'Europe publient un recueil de tous les évène
 ments\, passés et à venir en relation plus ou moins directe avec l'Europe
 \, dans toutes les régions. Sur le site\, vous pouvez également publier l
 es manifestations que vous organisez. Conférences\, colloques et débats. 
 Réunions d'information\, rencontres de jeunes  manifestations culturelles 
 ou sportives\, pique-niques multiculturels\, tout est là.
LOCATION:Partout
URL:https://voltfrance.org/evenements/ou-que-vous-soyez-faites-le-plein-dev
 enements-europeen
END:VEVENT
END:VCALENDAR
