BEGIN:VCALENDAR
VERSION:2.0
PRODID:-//Volt Europa//Events//EN
CALSCALE:GREGORIAN
METHOD:PUBLISH
BEGIN:VEVENT
UID:operation-affichage-a-nantes-1773421200@voltfrance.org
DTSTAMP:20260421T210526Z
DTSTART;TZID=Europe/Paris:20260313T180000
DTEND;TZID=Europe/Paris:20260313T200000
SUMMARY:Opération Affichage à Nantes !
DESCRIPTION:À Nantes\, nous ne participons pas directement aux élections 
 municipales\, mais nous soutenons la liste de la gauche sans LFI\, qui est 
 unie dès le 1er tour\, il n'y n'avait pas de place pour nous dans l'effect
 if. Nous collons des affiches de soutien et nous rencontrons les partenaire
 s de la liste avec lesquels nous avons des échanges enrichissants qui se r
 évèleront peut être fructueux à l'avenir. Tout le monde peut participer
 \, inscrivez vous (adrien.copros@volteuropa.org) \, ou bien venez nous rejo
 i
LOCATION:Quartier Nord-est - 44000 Nantes
URL:https://voltfrance.org/evenements/operation-affichage-a-nantes
END:VEVENT
END:VCALENDAR
