BEGIN:VCALENDAR
VERSION:2.0
PRODID:-//Volt Europa//Events//EN
CALSCALE:GREGORIAN
METHOD:PUBLISH
BEGIN:VEVENT
UID:offenburg-meet-and-greet-1738414800@voltfrance.org
DTSTAMP:20260425T163207Z
DTSTART;TZID=Europe/Paris:20250201T140000
DTEND;TZID=Europe/Paris:20250201T160000
SUMMARY:Offenburg Meet and Greet
DESCRIPTION:Nous parlons tous les langues ! Venez nous rencontrer pour disc
 uter et découvrir ce que fait Volt près de chez vous à notre Meet&Greet 
 à Offenburg le Samedi 1er Février. Kommen Sie zu einem Gespräch und erfa
 hren Sie mehr über Volt in Ihrer Nähe bei unserem Meet&Greet in Offenburg
  am Samstag\, den 1. Februar. Join us for a chat and find out more about Vo
 lt in your area at our Meet&Greet in Offenburg on Saturday February 1st. #v
 oltdeutschland #volt #strasbourgortenau #holenwirunsdiezukunftzurück
LOCATION:einMACHGLAS\, Am Marktplatz 19\, 77652 Offenburg\, Allemagne
URL:https://voltfrance.org/evenements/offenburg-meet-and-greet
END:VEVENT
END:VCALENDAR
