BEGIN:VCALENDAR
VERSION:2.0
PRODID:-//Volt Europa//Events//EN
CALSCALE:GREGORIAN
METHOD:PUBLISH
BEGIN:VEVENT
UID:notre-candidat-owen-vassellerie-court-pour-leurope-1715504400@voltfranc
 e.org
DTSTAMP:20260423T113525Z
DTSTART;TZID=Europe/Paris:20240512T110000
DTEND;TZID=Europe/Paris:20240512T160000
SUMMARY:Notre candidat Owen Vassellerie court pour l'Europe
DESCRIPTION:RUN FOR EUROPE\, 4ème édition ! C'est un rendez-vous franco-a
 llemand\, sportif et festif : il s'agit de parcourir une boucle de 6.5 km l
 e long du Rhin\, entre la France et l'Allemagne. Grands et petits\, coureur
 s et marcheurs sont invités à participer\, l'événement est gratuit et n
 on compétitif. C'est aussi une fête pour l'Europe\, musique\, danse et re
 stauration sont au programme. L'objectif est de sensibiliser et mobiliser l
 e plus grand nombre à voter aux élections européennes du 9 juin prochain
 . L'a
LOCATION:Marktplatz\, 79206 Breisach\, Allemagne
URL:https://voltfrance.org/evenements/notre-candidat-owen-vassellerie-court
 -pour-leurope
END:VEVENT
END:VCALENDAR
