BEGIN:VCALENDAR
VERSION:2.0
PRODID:-//Volt Europa//Events//EN
CALSCALE:GREGORIAN
METHOD:PUBLISH
BEGIN:VEVENT
UID:ne-votez-pas-blanc-dimanche-1720332000@voltfrance.org
DTSTAMP:20260423T112845Z
DTSTART;TZID=Europe/Paris:20240707T080000
DTEND;TZID=Europe/Paris:20240707T200000
SUMMARY:Ne votez pas blanc Dimanche !
DESCRIPTION:Vous avez encore une chance de participer Ã  des Ã©lections lib
 res et indÃ©pendantes\, tant que le Rassemblement national nâ€™est pas au p
 ouvoir\, ne manquez pas cette derniÃ¨re occasion de vous exprimer positivem
 ent. Volt ne donnera pas de consignes de vote\, et ne sâ€™est associÃ© avec
  aucun parti contrairement Ã  ce que certains tweets pourraient faire croir
 e.  Mais nous appelons bien Ã  voter pour tout candidat ou candidate opposÃ
 © Ã  lâ€™extrÃªme droite dans les circonscriptions oÃ¹ elle est qualifiÃ©e 
 au secon
LOCATION:L'isoloir...
URL:https://voltfrance.org/evenements/ne-votez-pas-blanc-dimanche
END:VEVENT
END:VCALENDAR
