BEGIN:VCALENDAR
VERSION:2.0
PRODID:-//Volt Europa//Events//EN
CALSCALE:GREGORIAN
METHOD:PUBLISH
BEGIN:VEVENT
UID:mobilites-migrations-et-democraties-1714062600@voltfrance.org
DTSTAMP:20260423T095202Z
DTSTART;TZID=Europe/Paris:20240425T183000
DTEND;TZID=Europe/Paris:20240425T200000
SUMMARY:Mobilités\, migrations et démocraties.
DESCRIPTION:« Les droits humains face à la montée des populismes et des 
 régimes autoritaires en Europe et dans les pays du Sud de la Méditerrané
 e » Ce débat public se tiendra la veille de l’Assemblée générale ann
 uelle du REF –  Réseau Euromed France \, et sera organisé en partenaria
 t avec le collectif « J’y suis\, J’y vote ». Il aura pour but d’éc
 lairer les débats sur les politiques migratoires de la France et de l’Eu
 rope et leurs conséquences\, et de mettre en lumière les mobilisations de
 s sociétés civiles po
LOCATION:57 rue Etienne Marcel\, 93100 Montreuil – métro Croix de Chavau
 x
URL:https://voltfrance.org/evenements/mobilites-migrations-et-democraties
END:VEVENT
END:VCALENDAR
